Workbook

Sheet １
B2: 書式２ | G2: ※ | H2: 申込用紙は男女別に作成。 １枚に男女一緒には記入しないこと。
B3: メール申込用 | H3: 年齢は大会当日の年齢を入力。 リレーは別紙書式3に記入。 | AB3: 枚目/ | AF3: 枚中
B5: 性別 | E5: 男子 | I5: 個人名
E6: 女子 | I6: 又は団体名
G7: ✔をつけてください
D8: 注：氏名・ふりがな・生年月日・種目・距離・エントリータイムを入力してください。
D9: 必ずふりがなを記入 | M9: 参加種目に☑
C10: フリガナ | F10: ﾈﾘﾏ ﾀﾛｳ | M10: TRUE | N10: 自由形 | P10: FALSE | Q10: 背泳ぎ | S10: FALSE | T10: 自由形 | V10: TRUE | W10: 背泳ぎ | Y10: リレーのみ参加する方はここに☑ | AF10: 合計
B11: 氏名 | D11: 練馬 太郎 | M11: FALSE | N11: ﾊﾞﾀﾌﾗｲ | P11: FALSE | Q11: 平泳ぎ | S11: FALSE | T11: ﾊﾞﾀﾌﾗｲ | V11: FALSE | W11: 平泳ぎ | Y11: FALSE | Z11: フリーリレー | AF11: 種目数
M12: FALSE | N12: 個人ﾒﾄﾞﾚｰ | P12: 100 | R12: m | S12: FALSE | T12: 個人ﾒﾄﾞﾚｰ | V12: 50 | X12: m | Y12: FALSE | Z12: 混合フリーリレー | AF12: =COUNTIF(M10:AD13,TRUE) -> 2
B13: 西暦/月/日 | F13: 20080925 | L13: 歳 | M13: 1 | N13: 分 | O13: 15 | Q13: 秒 | R13: 5 | T13: 分 | U13: 38 | W13: 秒 | X13: 8 | Y13: FALSE | Z13: メドレーリレー | AF13: 種目
M14: ↑エントリータイムを記入
C15: フリガナ | M15: FALSE | N15: 自由形 | P15: FALSE | Q15: 背泳ぎ | S15: FALSE | T15: 自由形 | V15: FALSE | W15: 背泳ぎ | Y15: リレーのみ参加する方はここに☑ | AF15: 合計
B16: 氏名 | M16: FALSE | N16: ﾊﾞﾀﾌﾗｲ | P16: FALSE | Q16: 平泳ぎ | S16: FALSE | T16: ﾊﾞﾀﾌﾗｲ | V16: FALSE | W16: 平泳ぎ | Y16: FALSE | Z16: フリーリレー | AF16: 種目数
M17: FALSE | N17: 個人ﾒﾄﾞﾚｰ | R17: m | S17: FALSE | T17: 個人ﾒﾄﾞﾚｰ | X17: m | Y17: FALSE | Z17: 混合フリーリレー | AF17: =COUNTIF(M15:AD18,TRUE) -> 0
B18: 西暦/月/日 | L18: 歳 | N18: 分 | Q18: 秒 | T18: 分 | W18: 秒 | Y18: FALSE | Z18: メドレーリレー | AF18: 種目
C20: フリガナ | M20: FALSE | N20: 自由形 | P20: FALSE | Q20: 背泳ぎ | S20: FALSE | T20: 自由形 | V20: FALSE | W20: 背泳ぎ | Y20: リレーのみ参加する方はここに☑ | AF20: 合計
B21: 氏名 | M21: FALSE | N21: ﾊﾞﾀﾌﾗｲ | P21: FALSE | Q21: 平泳ぎ | S21: FALSE | T21: ﾊﾞﾀﾌﾗｲ | V21: FALSE | W21: 平泳ぎ | Y21: FALSE | Z21: フリーリレー | AF21: 種目数
M22: FALSE | N22: 個人ﾒﾄﾞﾚｰ | R22: m | S22: FALSE | T22: 個人ﾒﾄﾞﾚｰ | X22: m | Y22: FALSE | Z22: 混合フリーリレー | AF22: =COUNTIF(M20:AD23,TRUE) -> 0
B23: 西暦/月/日 | L23: 歳 | N23: 分 | Q23: 秒 | T23: 分 | W23: 秒 | Y23: FALSE | Z23: メドレーリレー | AF23: 種目
C25: フリガナ | M25: FALSE | N25: 自由形 | P25: FALSE | Q25: 背泳ぎ | S25: FALSE | T25: 自由形 | V25: FALSE | W25: 背泳ぎ | Y25: リレーのみ参加する方はここに☑ | AF25: 合計
B26: 氏名 | M26: FALSE | N26: ﾊﾞﾀﾌﾗｲ | P26: FALSE | Q26: 平泳ぎ | S26: FALSE | T26: ﾊﾞﾀﾌﾗｲ | V26: FALSE | W26: 平泳ぎ | Y26: FALSE | Z26: フリーリレー | AF26: 種目数
M27: FALSE | N27: 個人ﾒﾄﾞﾚｰ | R27: m | S27: FALSE | T27: 個人ﾒﾄﾞﾚｰ | X27: m | Y27: FALSE | Z27: 混合フリーリレー | AF27: =COUNTIF(M25:AD28,TRUE) -> 0
B28: 西暦/月/日 | L28: 歳 | N28: 分 | Q28: 秒 | T28: 分 | W28: 秒 | Y28: FALSE | Z28: メドレーリレー | AF28: 種目
C30: フリガナ | M30: FALSE | N30: 自由形 | P30: FALSE | Q30: 背泳ぎ | S30: FALSE | T30: 自由形 | V30: FALSE | W30: 背泳ぎ | Y30: リレーのみ参加する方はここに☑ | AF30: 合計
B31: 氏名 | M31: FALSE | N31: ﾊﾞﾀﾌﾗｲ | P31: FALSE | Q31: 平泳ぎ | S31: FALSE | T31: ﾊﾞﾀﾌﾗｲ | V31: FALSE | W31: 平泳ぎ | Y31: FALSE | Z31: フリーリレー | AF31: 種目数
M32: FALSE | N32: 個人ﾒﾄﾞﾚｰ | R32: m | S32: FALSE | T32: 個人ﾒﾄﾞﾚｰ | X32: m | Y32: FALSE | Z32: 混合フリーリレー | AF32: =COUNTIF(M30:AD33,TRUE) -> 0
B33: 西暦/月/日 | L33: 歳 | N33: 分 | Q33: 秒 | T33: 分 | W33: 秒 | Y33: FALSE | Z33: メドレーリレー | AF33: 種目
C35: フリガナ | M35: FALSE | N35: 自由形 | P35: FALSE | Q35: 背泳ぎ | S35: FALSE | T35: 自由形 | V35: FALSE | W35: 背泳ぎ | Y35: リレーのみ参加する方はここに☑ | AF35: 合計
B36: 氏名 | M36: FALSE | N36: ﾊﾞﾀﾌﾗｲ | P36: FALSE | Q36: 平泳ぎ | S36: FALSE | T36: ﾊﾞﾀﾌﾗｲ | V36: FALSE | W36: 平泳ぎ | Y36: FALSE | Z36: フリーリレー | AF36: 種目数
M37: FALSE | N37: 個人ﾒﾄﾞﾚｰ | R37: m | S37: FALSE | T37: 個人ﾒﾄﾞﾚｰ | X37: m | Y37: FALSE | Z37: 混合フリーリレー | AF37: =COUNTIF(M35:AD38,TRUE) -> 0
B38: 西暦/月/日 | L38: 歳 | N38: 分 | Q38: 秒 | T38: 分 | W38: 秒 | Y38: FALSE | Z38: メドレーリレー | AF38: 種目
C40: フリガナ | M40: FALSE | N40: 自由形 | P40: FALSE | Q40: 背泳ぎ | S40: FALSE | T40: 自由形 | V40: FALSE | W40: 背泳ぎ | Y40: リレーのみ参加する方はここに☑ | AF40: 合計
B41: 氏名 | M41: FALSE | N41: ﾊﾞﾀﾌﾗｲ | P41: FALSE | Q41: 平泳ぎ | S41: FALSE | T41: ﾊﾞﾀﾌﾗｲ | V41: FALSE | W41: 平泳ぎ | Y41: FALSE | Z41: フリーリレー | AF41: 種目数
M42: FALSE | N42: 個人ﾒﾄﾞﾚｰ | R42: m | S42: FALSE | T42: 個人ﾒﾄﾞﾚｰ | X42: m | Y42: FALSE | Z42: 混合フリーリレー | AF42: =COUNTIF(M40:AD43,TRUE) -> 0
B43: 西暦/月/日 | L43: 歳 | N43: 分 | Q43: 秒 | T43: 分 | W43: 秒 | Y43: FALSE | Z43: メドレーリレー | AF43: 種目
C45: フリガナ | M45: FALSE | N45: 自由形 | P45: FALSE | Q45: 背泳ぎ | S45: FALSE | T45: 自由形 | V45: FALSE | W45: 背泳ぎ | Y45: リレーのみ参加する方はここに☑ | AF45: 合計
B46: 氏名 | M46: FALSE | N46: ﾊﾞﾀﾌﾗｲ | P46: FALSE | Q46: 平泳ぎ | S46: FALSE | T46: ﾊﾞﾀﾌﾗｲ | V46: FALSE | W46: 平泳ぎ | Y46: FALSE | Z46: フリーリレー | AF46: 種目数
M47: FALSE | N47: 個人ﾒﾄﾞﾚｰ | R47: m | S47: FALSE | T47: 個人ﾒﾄﾞﾚｰ | X47: m | Y47: FALSE | Z47: 混合フリーリレー | AF47: =COUNTIF(M45:AD48,TRUE) -> 0
B48: 西暦/月/日 | L48: 歳 | N48: 分 | Q48: 秒 | T48: 分 | W48: 秒 | Y48: FALSE | Z48: メドレーリレー | AF48: 種目

Sheet ２
B2: 書式２ | G2: ※ | H2: 申込用紙は男女別に作成。 １枚に男女一緒には記入しないこと。
B3: メール申込用 | H3: 年齢は大会当日の年齢を入力。 リレーは別紙書式3に記入。 | AB3: 枚目/ | AF3: 枚中
B5: 性別 | E5: 男子 | I5: 個人名 | N5: ='１'!N5 -> 0
E6: 女子 | I6: 又は団体名
G7: ✔をつけてください
D8: 注：氏名・ふりがな・生年月日・種目・距離・エントリータイムを入力してください。
D9: 必ずふりがなを記入 | M9: 参加種目に☑
C10: フリガナ | F10: ﾈﾘﾏ ﾀﾛｳ | M10: TRUE | N10: 自由形 | P10: FALSE | Q10: 背泳ぎ | S10: FALSE | T10: 自由形 | V10: TRUE | W10: 背泳ぎ | Y10: リレーのみ参加する方はここに☑ | AF10: 合計
B11: 氏名 | D11: 練馬 太郎 | M11: FALSE | N11: ﾊﾞﾀﾌﾗｲ | P11: FALSE | Q11: 平泳ぎ | S11: FALSE | T11: ﾊﾞﾀﾌﾗｲ | V11: FALSE | W11: 平泳ぎ | Y11: FALSE | Z11: フリーリレー | AF11: 種目数
M12: FALSE | N12: 個人ﾒﾄﾞﾚｰ | P12: 100 | R12: m | S12: FALSE | T12: 個人ﾒﾄﾞﾚｰ | V12: 50 | X12: m | Y12: FALSE | Z12: 混合フリーリレー | AF12: =COUNTIF(M10:AD13,TRUE) -> 2
B13: 西暦/月/日 | F13: 20080925 | L13: 歳 | M13: 1 | N13: 分 | O13: 15 | Q13: 秒 | R13: 5 | T13: 分 | U13: 38 | W13: 秒 | X13: 8 | Y13: FALSE | Z13: メドレーリレー | AF13: 種目
M14: ↑エントリータイムを記入
C15: フリガナ | M15: FALSE | N15: 自由形 | P15: FALSE | Q15: 背泳ぎ | S15: FALSE | T15: 自由形 | V15: FALSE | W15: 背泳ぎ | Y15: リレーのみ参加する方はここに☑ | AF15: 合計
B16: 氏名 | M16: FALSE | N16: ﾊﾞﾀﾌﾗｲ | P16: FALSE | Q16: 平泳ぎ | S16: FALSE | T16: ﾊﾞﾀﾌﾗｲ | V16: FALSE | W16: 平泳ぎ | Y16: FALSE | Z16: フリーリレー | AF16: 種目数
M17: FALSE | N17: 個人ﾒﾄﾞﾚｰ | R17: m | S17: FALSE | T17: 個人ﾒﾄﾞﾚｰ | X17: m | Y17: FALSE | Z17: 混合フリーリレー | AF17: =COUNTIF(M15:AD18,TRUE) -> 0
B18: 西暦/月/日 | L18: 歳 | N18: 分 | Q18: 秒 | T18: 分 | W18: 秒 | Y18: FALSE | Z18: メドレーリレー | AF18: 種目
C20: フリガナ | M20: FALSE | N20: 自由形 | P20: FALSE | Q20: 背泳ぎ | S20: FALSE | T20: 自由形 | V20: FALSE | W20: 背泳ぎ | Y20: リレーのみ参加する方はここに☑ | AF20: 合計
B21: 氏名 | M21: FALSE | N21: ﾊﾞﾀﾌﾗｲ | P21: FALSE | Q21: 平泳ぎ | S21: FALSE | T21: ﾊﾞﾀﾌﾗｲ | V21: FALSE | W21: 平泳ぎ | Y21: FALSE | Z21: フリーリレー | AF21: 種目数
M22: FALSE | N22: 個人ﾒﾄﾞﾚｰ | R22: m | S22: FALSE | T22: 個人ﾒﾄﾞﾚｰ | X22: m | Y22: FALSE | Z22: 混合フリーリレー | AF22: =COUNTIF(M20:AD23,TRUE) -> 0
B23: 西暦/月/日 | L23: 歳 | N23: 分 | Q23: 秒 | T23: 分 | W23: 秒 | Y23: FALSE | Z23: メドレーリレー | AF23: 種目
C25: フリガナ | M25: FALSE | N25: 自由形 | P25: FALSE | Q25: 背泳ぎ | S25: FALSE | T25: 自由形 | V25: FALSE | W25: 背泳ぎ | Y25: リレーのみ参加する方はここに☑ | AF25: 合計
B26: 氏名 | M26: FALSE | N26: ﾊﾞﾀﾌﾗｲ | P26: FALSE | Q26: 平泳ぎ | S26: FALSE | T26: ﾊﾞﾀﾌﾗｲ | V26: FALSE | W26: 平泳ぎ | Y26: FALSE | Z26: フリーリレー | AF26: 種目数
M27: FALSE | N27: 個人ﾒﾄﾞﾚｰ | R27: m | S27: FALSE | T27: 個人ﾒﾄﾞﾚｰ | X27: m | Y27: FALSE | Z27: 混合フリーリレー | AF27: =COUNTIF(M25:AD28,TRUE) -> 0
B28: 西暦/月/日 | L28: 歳 | N28: 分 | Q28: 秒 | T28: 分 | W28: 秒 | Y28: FALSE | Z28: メドレーリレー | AF28: 種目
C30: フリガナ | M30: FALSE | N30: 自由形 | P30: FALSE | Q30: 背泳ぎ | S30: FALSE | T30: 自由形 | V30: FALSE | W30: 背泳ぎ | Y30: リレーのみ参加する方はここに☑ | AF30: 合計
B31: 氏名 | M31: FALSE | N31: ﾊﾞﾀﾌﾗｲ | P31: FALSE | Q31: 平泳ぎ | S31: FALSE | T31: ﾊﾞﾀﾌﾗｲ | V31: FALSE | W31: 平泳ぎ | Y31: FALSE | Z31: フリーリレー | AF31: 種目数
M32: FALSE | N32: 個人ﾒﾄﾞﾚｰ | R32: m | S32: FALSE | T32: 個人ﾒﾄﾞﾚｰ | X32: m | Y32: FALSE | Z32: 混合フリーリレー | AF32: =COUNTIF(M30:AD33,TRUE) -> 0
B33: 西暦/月/日 | L33: 歳 | N33: 分 | Q33: 秒 | T33: 分 | W33: 秒 | Y33: FALSE | Z33: メドレーリレー | AF33: 種目
C35: フリガナ | M35: FALSE | N35: 自由形 | P35: FALSE | Q35: 背泳ぎ | S35: FALSE | T35: 自由形 | V35: FALSE | W35: 背泳ぎ | Y35: リレーのみ参加する方はここに☑ | AF35: 合計
B36: 氏名 | M36: FALSE | N36: ﾊﾞﾀﾌﾗｲ | P36: FALSE | Q36: 平泳ぎ | S36: FALSE | T36: ﾊﾞﾀﾌﾗｲ | V36: FALSE | W36: 平泳ぎ | Y36: FALSE | Z36: フリーリレー | AF36: 種目数
M37: FALSE | N37: 個人ﾒﾄﾞﾚｰ | R37: m | S37: FALSE | T37: 個人ﾒﾄﾞﾚｰ | X37: m | Y37: FALSE | Z37: 混合フリーリレー | AF37: =COUNTIF(M35:AD38,TRUE) -> 0
B38: 西暦/月/日 | L38: 歳 | N38: 分 | Q38: 秒 | T38: 分 | W38: 秒 | Y38: FALSE | Z38: メドレーリレー | AF38: 種目
C40: フリガナ | M40: FALSE | N40: 自由形 | P40: FALSE | Q40: 背泳ぎ | S40: FALSE | T40: 自由形 | V40: FALSE | W40: 背泳ぎ | Y40: リレーのみ参加する方はここに☑ | AF40: 合計
B41: 氏名 | M41: FALSE | N41: ﾊﾞﾀﾌﾗｲ | P41: FALSE | Q41: 平泳ぎ | S41: FALSE | T41: ﾊﾞﾀﾌﾗｲ | V41: FALSE | W41: 平泳ぎ | Y41: FALSE | Z41: フリーリレー | AF41: 種目数
M42: FALSE | N42: 個人ﾒﾄﾞﾚｰ | R42: m | S42: FALSE | T42: 個人ﾒﾄﾞﾚｰ | X42: m | Y42: FALSE | Z42: 混合フリーリレー | AF42: =COUNTIF(M40:AD43,TRUE) -> 0
B43: 西暦/月/日 | L43: 歳 | N43: 分 | Q43: 秒 | T43: 分 | W43: 秒 | Y43: FALSE | Z43: メドレーリレー | AF43: 種目
C45: フリガナ | M45: FALSE | N45: 自由形 | P45: FALSE | Q45: 背泳ぎ | S45: FALSE | T45: 自由形 | V45: FALSE | W45: 背泳ぎ | Y45: リレーのみ参加する方はここに☑ | AF45: 合計
B46: 氏名 | M46: FALSE | N46: ﾊﾞﾀﾌﾗｲ | P46: FALSE | Q46: 平泳ぎ | S46: FALSE | T46: ﾊﾞﾀﾌﾗｲ | V46: FALSE | W46: 平泳ぎ | Y46: FALSE | Z46: フリーリレー | AF46: 種目数
M47: FALSE | N47: 個人ﾒﾄﾞﾚｰ | R47: m | S47: FALSE | T47: 個人ﾒﾄﾞﾚｰ | X47: m | Y47: FALSE | Z47: 混合フリーリレー | AF47: =COUNTIF(M45:AD48,TRUE) -> 0
B48: 西暦/月/日 | L48: 歳 | N48: 分 | Q48: 秒 | T48: 分 | W48: 秒 | Y48: FALSE | Z48: メドレーリレー | AF48: 種目

Sheet ３
B2: 書式２ | G2: ※ | H2: 申込用紙は男女別に作成。 １枚に男女一緒には記入しないこと。
B3: メール申込用 | H3: 年齢は大会当日の年齢を入力。 リレーは別紙書式3に記入。 | AB3: 枚目/ | AF3: 枚中
B5: 性別 | E5: 男子 | I5: 個人名 | N5: ='１'!N5 -> 0
E6: 女子 | I6: 又は団体名
G7: ✔をつけてください
D8: 注：氏名・ふりがな・生年月日・種目・距離・エントリータイムを入力してください。
D9: 必ずふりがなを記入 | M9: 参加種目に☑
C10: フリガナ | F10: ﾈﾘﾏ ﾀﾛｳ | M10: TRUE | N10: 自由形 | P10: FALSE | Q10: 背泳ぎ | S10: FALSE | T10: 自由形 | V10: TRUE | W10: 背泳ぎ | Y10: リレーのみ参加する方はここに☑ | AF10: 合計
B11: 氏名 | D11: 練馬 太郎 | M11: FALSE | N11: ﾊﾞﾀﾌﾗｲ | P11: FALSE | Q11: 平泳ぎ | S11: FALSE | T11: ﾊﾞﾀﾌﾗｲ | V11: FALSE | W11: 平泳ぎ | Y11: FALSE | Z11: フリーリレー | AF11: 種目数
M12: FALSE | N12: 個人ﾒﾄﾞﾚｰ | P12: 100 | R12: m | S12: FALSE | T12: 個人ﾒﾄﾞﾚｰ | V12: 50 | X12: m | Y12: FALSE | Z12: 混合フリーリレー | AF12: =COUNTIF(M10:AD13,TRUE) -> 2
B13: 西暦/月/日 | F13: 20080925 | L13: 歳 | M13: 1 | N13: 分 | O13: 15 | Q13: 秒 | R13: 5 | T13: 分 | U13: 38 | W13: 秒 | X13: 8 | Y13: FALSE | Z13: メドレーリレー | AF13: 種目
M14: ↑エントリータイムを記入
C15: フリガナ | M15: FALSE | N15: 自由形 | P15: FALSE | Q15: 背泳ぎ | S15: FALSE | T15: 自由形 | V15: FALSE | W15: 背泳ぎ | Y15: リレーのみ参加する方はここに☑ | AF15: 合計
B16: 氏名 | M16: FALSE | N16: ﾊﾞﾀﾌﾗｲ | P16: FALSE | Q16: 平泳ぎ | S16: FALSE | T16: ﾊﾞﾀﾌﾗｲ | V16: FALSE | W16: 平泳ぎ | Y16: FALSE | Z16: フリーリレー | AF16: 種目数
M17: FALSE | N17: 個人ﾒﾄﾞﾚｰ | R17: m | S17: FALSE | T17: 個人ﾒﾄﾞﾚｰ | X17: m | Y17: FALSE | Z17: 混合フリーリレー | AF17: =COUNTIF(M15:AD18,TRUE) -> 0
B18: 西暦/月/日 | L18: 歳 | N18: 分 | Q18: 秒 | T18: 分 | W18: 秒 | Y18: FALSE | Z18: メドレーリレー | AF18: 種目
C20: フリガナ | M20: FALSE | N20: 自由形 | P20: FALSE | Q20: 背泳ぎ | S20: FALSE | T20: 自由形 | V20: FALSE | W20: 背泳ぎ | Y20: リレーのみ参加する方はここに☑ | AF20: 合計
B21: 氏名 | M21: FALSE | N21: ﾊﾞﾀﾌﾗｲ | P21: FALSE | Q21: 平泳ぎ | S21: FALSE | T21: ﾊﾞﾀﾌﾗｲ | V21: FALSE | W21: 平泳ぎ | Y21: FALSE | Z21: フリーリレー | AF21: 種目数
M22: FALSE | N22: 個人ﾒﾄﾞﾚｰ | R22: m | S22: FALSE | T22: 個人ﾒﾄﾞﾚｰ | X22: m | Y22: FALSE | Z22: 混合フリーリレー | AF22: =COUNTIF(M20:AD23,TRUE) -> 0
B23: 西暦/月/日 | L23: 歳 | N23: 分 | Q23: 秒 | T23: 分 | W23: 秒 | Y23: FALSE | Z23: メドレーリレー | AF23: 種目
C25: フリガナ | M25: FALSE | N25: 自由形 | P25: FALSE | Q25: 背泳ぎ | S25: FALSE | T25: 自由形 | V25: FALSE | W25: 背泳ぎ | Y25: リレーのみ参加する方はここに☑ | AF25: 合計
B26: 氏名 | M26: FALSE | N26: ﾊﾞﾀﾌﾗｲ | P26: FALSE | Q26: 平泳ぎ | S26: FALSE | T26: ﾊﾞﾀﾌﾗｲ | V26: FALSE | W26: 平泳ぎ | Y26: FALSE | Z26: フリーリレー | AF26: 種目数
M27: FALSE | N27: 個人ﾒﾄﾞﾚｰ | R27: m | S27: FALSE | T27: 個人ﾒﾄﾞﾚｰ | X27: m | Y27: FALSE | Z27: 混合フリーリレー | AF27: =COUNTIF(M25:AD28,TRUE) -> 0
B28: 西暦/月/日 | L28: 歳 | N28: 分 | Q28: 秒 | T28: 分 | W28: 秒 | Y28: FALSE | Z28: メドレーリレー | AF28: 種目
C30: フリガナ | M30: FALSE | N30: 自由形 | P30: FALSE | Q30: 背泳ぎ | S30: FALSE | T30: 自由形 | V30: FALSE | W30: 背泳ぎ | Y30: リレーのみ参加する方はここに☑ | AF30: 合計
B31: 氏名 | M31: FALSE | N31: ﾊﾞﾀﾌﾗｲ | P31: FALSE | Q31: 平泳ぎ | S31: FALSE | T31: ﾊﾞﾀﾌﾗｲ | V31: FALSE | W31: 平泳ぎ | Y31: FALSE | Z31: フリーリレー | AF31: 種目数
M32: FALSE | N32: 個人ﾒﾄﾞﾚｰ | R32: m | S32: FALSE | T32: 個人ﾒﾄﾞﾚｰ | X32: m | Y32: FALSE | Z32: 混合フリーリレー | AF32: =COUNTIF(M30:AD33,TRUE) -> 0
B33: 西暦/月/日 | L33: 歳 | N33: 分 | Q33: 秒 | T33: 分 | W33: 秒 | Y33: FALSE | Z33: メドレーリレー | AF33: 種目
C35: フリガナ | M35: FALSE | N35: 自由形 | P35: FALSE | Q35: 背泳ぎ | S35: FALSE | T35: 自由形 | V35: FALSE | W35: 背泳ぎ | Y35: リレーのみ参加する方はここに☑ | AF35: 合計
B36: 氏名 | M36: FALSE | N36: ﾊﾞﾀﾌﾗｲ | P36: FALSE | Q36: 平泳ぎ | S36: FALSE | T36: ﾊﾞﾀﾌﾗｲ | V36: FALSE | W36: 平泳ぎ | Y36: FALSE | Z36: フリーリレー | AF36: 種目数
M37: FALSE | N37: 個人ﾒﾄﾞﾚｰ | R37: m | S37: FALSE | T37: 個人ﾒﾄﾞﾚｰ | X37: m | Y37: FALSE | Z37: 混合フリーリレー | AF37: =COUNTIF(M35:AD38,TRUE) -> 0
B38: 西暦/月/日 | L38: 歳 | N38: 分 | Q38: 秒 | T38: 分 | W38: 秒 | Y38: FALSE | Z38: メドレーリレー | AF38: 種目
C40: フリガナ | M40: FALSE | N40: 自由形 | P40: FALSE | Q40: 背泳ぎ | S40: FALSE | T40: 自由形 | V40: FALSE | W40: 背泳ぎ | Y40: リレーのみ参加する方はここに☑ | AF40: 合計
B41: 氏名 | M41: FALSE | N41: ﾊﾞﾀﾌﾗｲ | P41: FALSE | Q41: 平泳ぎ | S41: FALSE | T41: ﾊﾞﾀﾌﾗｲ | V41: FALSE | W41: 平泳ぎ | Y41: FALSE | Z41: フリーリレー | AF41: 種目数
M42: FALSE | N42: 個人ﾒﾄﾞﾚｰ | R42: m | S42: FALSE | T42: 個人ﾒﾄﾞﾚｰ | X42: m | Y42: FALSE | Z42: 混合フリーリレー | AF42: =COUNTIF(M40:AD43,TRUE) -> 0
B43: 西暦/月/日 | L43: 歳 | N43: 分 | Q43: 秒 | T43: 分 | W43: 秒 | Y43: FALSE | Z43: メドレーリレー | AF43: 種目
C45: フリガナ | M45: FALSE | N45: 自由形 | P45: FALSE | Q45: 背泳ぎ | S45: FALSE | T45: 自由形 | V45: FALSE | W45: 背泳ぎ | Y45: リレーのみ参加する方はここに☑ | AF45: 合計
B46: 氏名 | M46: FALSE | N46: ﾊﾞﾀﾌﾗｲ | P46: FALSE | Q46: 平泳ぎ | S46: FALSE | T46: ﾊﾞﾀﾌﾗｲ | V46: FALSE | W46: 平泳ぎ | Y46: FALSE | Z46: フリーリレー | AF46: 種目数
M47: FALSE | N47: 個人ﾒﾄﾞﾚｰ | R47: m | S47: FALSE | T47: 個人ﾒﾄﾞﾚｰ | X47: m | Y47: FALSE | Z47: 混合フリーリレー | AF47: =COUNTIF(M45:AD48,TRUE) -> 0
B48: 西暦/月/日 | L48: 歳 | N48: 分 | Q48: 秒 | T48: 分 | W48: 秒 | Y48: FALSE | Z48: メドレーリレー | AF48: 種目

Sheet ４
B2: 書式２ | G2: ※ | H2: 申込用紙は男女別に作成。 １枚に男女一緒には記入しないこと。
B3: メール申込用 | H3: 年齢は大会当日の年齢を入力。 リレーは別紙書式3に記入。 | AB3: 枚目/ | AF3: 枚中
B5: 性別 | E5: 男子 | I5: 個人名 | N5: ='１'!N5 -> 0
E6: 女子 | I6: 又は団体名
G7: ✔をつけてください
D8: 注：氏名・ふりがな・生年月日・種目・距離・エントリータイムを入力してください。
D9: 必ずふりがなを記入 | M9: 参加種目に☑
C10: フリガナ | F10: ﾈﾘﾏ ﾀﾛｳ | M10: TRUE | N10: 自由形 | P10: FALSE | Q10: 背泳ぎ | S10: FALSE | T10: 自由形 | V10: TRUE | W10: 背泳ぎ | Y10: リレーのみ参加する方はここに☑ | AF10: 合計
B11: 氏名 | D11: 練馬 太郎 | M11: FALSE | N11: ﾊﾞﾀﾌﾗｲ | P11: FALSE | Q11: 平泳ぎ | S11: FALSE | T11: ﾊﾞﾀﾌﾗｲ | V11: FALSE | W11: 平泳ぎ | Y11: FALSE | Z11: フリーリレー | AF11: 種目数
M12: FALSE | N12: 個人ﾒﾄﾞﾚｰ | P12: 100 | R12: m | S12: FALSE | T12: 個人ﾒﾄﾞﾚｰ | V12: 50 | X12: m | Y12: FALSE | Z12: 混合フリーリレー | AF12: =COUNTIF(M10:AD13,TRUE) -> 2
B13: 西暦/月/日 | F13: 20080925 | L13: 歳 | M13: 1 | N13: 分 | O13: 15 | Q13: 秒 | R13: 5 | T13: 分 | U13: 38 | W13: 秒 | X13: 8 | Y13: FALSE | Z13: メドレーリレー | AF13: 種目
M14: ↑エントリータイムを記入
C15: フリガナ | M15: FALSE | N15: 自由形 | P15: FALSE | Q15: 背泳ぎ | S15: FALSE | T15: 自由形 | V15: FALSE | W15: 背泳ぎ | Y15: リレーのみ参加する方はここに☑ | AF15: 合計
B16: 氏名 | M16: FALSE | N16: ﾊﾞﾀﾌﾗｲ | P16: FALSE | Q16: 平泳ぎ | S16: FALSE | T16: ﾊﾞﾀﾌﾗｲ | V16: FALSE | W16: 平泳ぎ | Y16: FALSE | Z16: フリーリレー | AF16: 種目数
M17: FALSE | N17: 個人ﾒﾄﾞﾚｰ | R17: m | S17: FALSE | T17: 個人ﾒﾄﾞﾚｰ | X17: m | Y17: FALSE | Z17: 混合フリーリレー | AF17: =COUNTIF(M15:AD18,TRUE) -> 0
B18: 西暦/月/日 | L18: 歳 | N18: 分 | Q18: 秒 | T18: 分 | W18: 秒 | Y18: FALSE | Z18: メドレーリレー | AF18: 種目
C20: フリガナ | M20: FALSE | N20: 自由形 | P20: FALSE | Q20: 背泳ぎ | S20: FALSE | T20: 自由形 | V20: FALSE | W20: 背泳ぎ | Y20: リレーのみ参加する方はここに☑ | AF20: 合計
B21: 氏名 | M21: FALSE | N21: ﾊﾞﾀﾌﾗｲ | P21: FALSE | Q21: 平泳ぎ | S21: FALSE | T21: ﾊﾞﾀﾌﾗｲ | V21: FALSE | W21: 平泳ぎ | Y21: FALSE | Z21: フリーリレー | AF21: 種目数
M22: FALSE | N22: 個人ﾒﾄﾞﾚｰ | R22: m | S22: FALSE | T22: 個人ﾒﾄﾞﾚｰ | X22: m | Y22: FALSE | Z22: 混合フリーリレー | AF22: =COUNTIF(M20:AD23,TRUE) -> 0
B23: 西暦/月/日 | L23: 歳 | N23: 分 | Q23: 秒 | T23: 分 | W23: 秒 | Y23: FALSE | Z23: メドレーリレー | AF23: 種目
C25: フリガナ | M25: FALSE | N25: 自由形 | P25: FALSE | Q25: 背泳ぎ | S25: FALSE | T25: 自由形 | V25: FALSE | W25: 背泳ぎ | Y25: リレーのみ参加する方はここに☑ | AF25: 合計
B26: 氏名 | M26: FALSE | N26: ﾊﾞﾀﾌﾗｲ | P26: FALSE | Q26: 平泳ぎ | S26: FALSE | T26: ﾊﾞﾀﾌﾗｲ | V26: FALSE | W26: 平泳ぎ | Y26: FALSE | Z26: フリーリレー | AF26: 種目数
M27: FALSE | N27: 個人ﾒﾄﾞﾚｰ | R27: m | S27: FALSE | T27: 個人ﾒﾄﾞﾚｰ | X27: m | Y27: FALSE | Z27: 混合フリーリレー | AF27: =COUNTIF(M25:AD28,TRUE) -> 0
B28: 西暦/月/日 | L28: 歳 | N28: 分 | Q28: 秒 | T28: 分 | W28: 秒 | Y28: FALSE | Z28: メドレーリレー | AF28: 種目
C30: フリガナ | M30: FALSE | N30: 自由形 | P30: FALSE | Q30: 背泳ぎ | S30: FALSE | T30: 自由形 | V30: FALSE | W30: 背泳ぎ | Y30: リレーのみ参加する方はここに☑ | AF30: 合計
B31: 氏名 | M31: FALSE | N31: ﾊﾞﾀﾌﾗｲ | P31: FALSE | Q31: 平泳ぎ | S31: FALSE | T31: ﾊﾞﾀﾌﾗｲ | V31: FALSE | W31: 平泳ぎ | Y31: FALSE | Z31: フリーリレー | AF31: 種目数
M32: FALSE | N32: 個人ﾒﾄﾞﾚｰ | R32: m | S32: FALSE | T32: 個人ﾒﾄﾞﾚｰ | X32: m | Y32: FALSE | Z32: 混合フリーリレー | AF32: =COUNTIF(M30:AD33,TRUE) -> 0
B33: 西暦/月/日 | L33: 歳 | N33: 分 | Q33: 秒 | T33: 分 | W33: 秒 | Y33: FALSE | Z33: メドレーリレー | AF33: 種目
C35: フリガナ | M35: FALSE | N35: 自由形 | P35: FALSE | Q35: 背泳ぎ | S35: FALSE | T35: 自由形 | V35: FALSE | W35: 背泳ぎ | Y35: リレーのみ参加する方はここに☑ | AF35: 合計
B36: 氏名 | M36: FALSE | N36: ﾊﾞﾀﾌﾗｲ | P36: FALSE | Q36: 平泳ぎ | S36: FALSE | T36: ﾊﾞﾀﾌﾗｲ | V36: FALSE | W36: 平泳ぎ | Y36: FALSE | Z36: フリーリレー | AF36: 種目数
M37: FALSE | N37: 個人ﾒﾄﾞﾚｰ | R37: m | S37: FALSE | T37: 個人ﾒﾄﾞﾚｰ | X37: m | Y37: FALSE | Z37: 混合フリーリレー | AF37: =COUNTIF(M35:AD38,TRUE) -> 0
B38: 西暦/月/日 | L38: 歳 | N38: 分 | Q38: 秒 | T38: 分 | W38: 秒 | Y38: FALSE | Z38: メドレーリレー | AF38: 種目
C40: フリガナ | M40: FALSE | N40: 自由形 | P40: FALSE | Q40: 背泳ぎ | S40: FALSE | T40: 自由形 | V40: FALSE | W40: 背泳ぎ | Y40: リレーのみ参加する方はここに☑ | AF40: 合計
B41: 氏名 | M41: FALSE | N41: ﾊﾞﾀﾌﾗｲ | P41: FALSE | Q41: 平泳ぎ | S41: FALSE | T41: ﾊﾞﾀﾌﾗｲ | V41: FALSE | W41: 平泳ぎ | Y41: FALSE | Z41: フリーリレー | AF41: 種目数
M42: FALSE | N42: 個人ﾒﾄﾞﾚｰ | R42: m | S42: FALSE | T42: 個人ﾒﾄﾞﾚｰ | X42: m | Y42: FALSE | Z42: 混合フリーリレー | AF42: =COUNTIF(M40:AD43,TRUE) -> 0
B43: 西暦/月/日 | L43: 歳 | N43: 分 | Q43: 秒 | T43: 分 | W43: 秒 | Y43: FALSE | Z43: メドレーリレー | AF43: 種目
C45: フリガナ | M45: FALSE | N45: 自由形 | P45: FALSE | Q45: 背泳ぎ | S45: FALSE | T45: 自由形 | V45: FALSE | W45: 背泳ぎ | Y45: リレーのみ参加する方はここに☑ | AF45: 合計
B46: 氏名 | M46: FALSE | N46: ﾊﾞﾀﾌﾗｲ | P46: FALSE | Q46: 平泳ぎ | S46: FALSE | T46: ﾊﾞﾀﾌﾗｲ | V46: FALSE | W46: 平泳ぎ | Y46: FALSE | Z46: フリーリレー | AF46: 種目数
M47: FALSE | N47: 個人ﾒﾄﾞﾚｰ | R47: m | S47: FALSE | T47: 個人ﾒﾄﾞﾚｰ | X47: m | Y47: FALSE | Z47: 混合フリーリレー | AF47: =COUNTIF(M45:AD48,TRUE) -> 0
B48: 西暦/月/日 | L48: 歳 | N48: 分 | Q48: 秒 | T48: 分 | W48: 秒 | Y48: FALSE | Z48: メドレーリレー | AF48: 種目

Sheet ５
B2: 書式２ | G2: ※ | H2: 申込用紙は男女別に作成。 １枚に男女一緒には記入しないこと。
B3: メール申込用 | H3: 年齢は大会当日の年齢を入力。 リレーは別紙書式3に記入。 | AB3: 枚目/ | AF3: 枚中
B5: 性別 | E5: 男子 | I5: 個人名 | N5: ='１'!N5 -> 0
E6: 女子 | I6: 又は団体名
G7: ✔をつけてください
D8: 注：氏名・ふりがな・生年月日・種目・距離・エントリータイムを入力してください。
D9: 必ずふりがなを記入 | M9: 参加種目に☑
C10: フリガナ | F10: ﾈﾘﾏ ﾀﾛｳ | M10: TRUE | N10: 自由形 | P10: FALSE | Q10: 背泳ぎ | S10: FALSE | T10: 自由形 | V10: TRUE | W10: 背泳ぎ | Y10: リレーのみ参加する方はここに☑ | AF10: 合計
B11: 氏名 | D11: 練馬 太郎 | M11: FALSE | N11: ﾊﾞﾀﾌﾗｲ | P11: FALSE | Q11: 平泳ぎ | S11: FALSE | T11: ﾊﾞﾀﾌﾗｲ | V11: FALSE | W11: 平泳ぎ | Y11: FALSE | Z11: フリーリレー | AF11: 種目数
M12: FALSE | N12: 個人ﾒﾄﾞﾚｰ | P12: 100 | R12: m | S12: FALSE | T12: 個人ﾒﾄﾞﾚｰ | V12: 50 | X12: m | Y12: FALSE | Z12: 混合フリーリレー | AF12: =COUNTIF(M10:AD13,TRUE) -> 2
B13: 西暦/月/日 | F13: 20080925 | L13: 歳 | M13: 1 | N13: 分 | O13: 15 | Q13: 秒 | R13: 5 | T13: 分 | U13: 38 | W13: 秒 | X13: 8 | Y13: FALSE | Z13: メドレーリレー | AF13: 種目
M14: ↑エントリータイムを記入
C15: フリガナ | M15: FALSE | N15: 自由形 | P15: FALSE | Q15: 背泳ぎ | S15: FALSE | T15: 自由形 | V15: FALSE | W15: 背泳ぎ | Y15: リレーのみ参加する方はここに☑ | AF15: 合計
B16: 氏名 | M16: FALSE | N16: ﾊﾞﾀﾌﾗｲ | P16: FALSE | Q16: 平泳ぎ | S16: FALSE | T16: ﾊﾞﾀﾌﾗｲ | V16: FALSE | W16: 平泳ぎ | Y16: FALSE | Z16: フリーリレー | AF16: 種目数
M17: FALSE | N17: 個人ﾒﾄﾞﾚｰ | R17: m | S17: FALSE | T17: 個人ﾒﾄﾞﾚｰ | X17: m | Y17: FALSE | Z17: 混合フリーリレー | AF17: =COUNTIF(M15:AD18,TRUE) -> 0
B18: 西暦/月/日 | L18: 歳 | N18: 分 | Q18: 秒 | T18: 分 | W18: 秒 | Y18: FALSE | Z18: メドレーリレー | AF18: 種目
C20: フリガナ | M20: FALSE | N20: 自由形 | P20: FALSE | Q20: 背泳ぎ | S20: FALSE | T20: 自由形 | V20: FALSE | W20: 背泳ぎ | Y20: リレーのみ参加する方はここに☑ | AF20: 合計
B21: 氏名 | M21: FALSE | N21: ﾊﾞﾀﾌﾗｲ | P21: FALSE | Q21: 平泳ぎ | S21: FALSE | T21: ﾊﾞﾀﾌﾗｲ | V21: FALSE | W21: 平泳ぎ | Y21: FALSE | Z21: フリーリレー | AF21: 種目数
M22: FALSE | N22: 個人ﾒﾄﾞﾚｰ | R22: m | S22: FALSE | T22: 個人ﾒﾄﾞﾚｰ | X22: m | Y22: FALSE | Z22: 混合フリーリレー | AF22: =COUNTIF(M20:AD23,TRUE) -> 0
B23: 西暦/月/日 | L23: 歳 | N23: 分 | Q23: 秒 | T23: 分 | W23: 秒 | Y23: FALSE | Z23: メドレーリレー | AF23: 種目
C25: フリガナ | M25: FALSE | N25: 自由形 | P25: FALSE | Q25: 背泳ぎ | S25: FALSE | T25: 自由形 | V25: FALSE | W25: 背泳ぎ | Y25: リレーのみ参加する方はここに☑ | AF25: 合計
B26: 氏名 | M26: FALSE | N26: ﾊﾞﾀﾌﾗｲ | P26: FALSE | Q26: 平泳ぎ | S26: FALSE | T26: ﾊﾞﾀﾌﾗｲ | V26: FALSE | W26: 平泳ぎ | Y26: FALSE | Z26: フリーリレー | AF26: 種目数
M27: FALSE | N27: 個人ﾒﾄﾞﾚｰ | R27: m | S27: FALSE | T27: 個人ﾒﾄﾞﾚｰ | X27: m | Y27: FALSE | Z27: 混合フリーリレー | AF27: =COUNTIF(M25:AD28,TRUE) -> 0
B28: 西暦/月/日 | L28: 歳 | N28: 分 | Q28: 秒 | T28: 分 | W28: 秒 | Y28: FALSE | Z28: メドレーリレー | AF28: 種目
C30: フリガナ | M30: FALSE | N30: 自由形 | P30: FALSE | Q30: 背泳ぎ | S30: FALSE | T30: 自由形 | V30: FALSE | W30: 背泳ぎ | Y30: リレーのみ参加する方はここに☑ | AF30: 合計
B31: 氏名 | M31: FALSE | N31: ﾊﾞﾀﾌﾗｲ | P31: FALSE | Q31: 平泳ぎ | S31: FALSE | T31: ﾊﾞﾀﾌﾗｲ | V31: FALSE | W31: 平泳ぎ | Y31: FALSE | Z31: フリーリレー | AF31: 種目数
M32: FALSE | N32: 個人ﾒﾄﾞﾚｰ | R32: m | S32: FALSE | T32: 個人ﾒﾄﾞﾚｰ | X32: m | Y32: FALSE | Z32: 混合フリーリレー | AF32: =COUNTIF(M30:AD33,TRUE) -> 0
B33: 西暦/月/日 | L33: 歳 | N33: 分 | Q33: 秒 | T33: 分 | W33: 秒 | Y33: FALSE | Z33: メドレーリレー | AF33: 種目
C35: フリガナ | M35: FALSE | N35: 自由形 | P35: FALSE | Q35: 背泳ぎ | S35: FALSE | T35: 自由形 | V35: FALSE | W35: 背泳ぎ | Y35: リレーのみ参加する方はここに☑ | AF35: 合計
B36: 氏名 | M36: FALSE | N36: ﾊﾞﾀﾌﾗｲ | P36: FALSE | Q36: 平泳ぎ | S36: FALSE | T36: ﾊﾞﾀﾌﾗｲ | V36: FALSE | W36: 平泳ぎ | Y36: FALSE | Z36: フリーリレー | AF36: 種目数
M37: FALSE | N37: 個人ﾒﾄﾞﾚｰ | R37: m | S37: FALSE | T37: 個人ﾒﾄﾞﾚｰ | X37: m | Y37: FALSE | Z37: 混合フリーリレー | AF37: =COUNTIF(M35:AD38,TRUE) -> 0
B38: 西暦/月/日 | L38: 歳 | N38: 分 | Q38: 秒 | T38: 分 | W38: 秒 | Y38: FALSE | Z38: メドレーリレー | AF38: 種目
C40: フリガナ | M40: FALSE | N40: 自由形 | P40: FALSE | Q40: 背泳ぎ | S40: FALSE | T40: 自由形 | V40: FALSE | W40: 背泳ぎ | Y40: リレーのみ参加する方はここに☑ | AF40: 合計
B41: 氏名 | M41: FALSE | N41: ﾊﾞﾀﾌﾗｲ | P41: FALSE | Q41: 平泳ぎ | S41: FALSE | T41: ﾊﾞﾀﾌﾗｲ | V41: FALSE | W41: 平泳ぎ | Y41: FALSE | Z41: フリーリレー | AF41: 種目数
M42: FALSE | N42: 個人ﾒﾄﾞﾚｰ | R42: m | S42: FALSE | T42: 個人ﾒﾄﾞﾚｰ | X42: m | Y42: FALSE | Z42: 混合フリーリレー | AF42: =COUNTIF(M40:AD43,TRUE) -> 0
B43: 西暦/月/日 | L43: 歳 | N43: 分 | Q43: 秒 | T43: 分 | W43: 秒 | Y43: FALSE | Z43: メドレーリレー | AF43: 種目
C45: フリガナ | M45: FALSE | N45: 自由形 | P45: FALSE | Q45: 背泳ぎ | S45: FALSE | T45: 自由形 | V45: FALSE | W45: 背泳ぎ | Y45: リレーのみ参加する方はここに☑ | AF45: 合計
B46: 氏名 | M46: FALSE | N46: ﾊﾞﾀﾌﾗｲ | P46: FALSE | Q46: 平泳ぎ | S46: FALSE | T46: ﾊﾞﾀﾌﾗｲ | V46: FALSE | W46: 平泳ぎ | Y46: FALSE | Z46: フリーリレー | AF46: 種目数
M47: FALSE | N47: 個人ﾒﾄﾞﾚｰ | R47: m | S47: FALSE | T47: 個人ﾒﾄﾞﾚｰ | X47: m | Y47: FALSE | Z47: 混合フリーリレー | AF47: =COUNTIF(M45:AD48,TRUE) -> 0
B48: 西暦/月/日 | L48: 歳 | N48: 分 | Q48: 秒 | T48: 分 | W48: 秒 | Y48: FALSE | Z48: メドレーリレー | AF48: 種目

Sheet ６
B2: 書式２ | G2: ※ | H2: 申込用紙は男女別に作成。 １枚に男女一緒には記入しないこと。
B3: メール申込用 | H3: 年齢は大会当日の年齢を入力。 リレーは別紙書式3に記入。 | AB3: 枚目/ | AF3: 枚中
B5: 性別 | E5: 男子 | I5: 個人名 | N5: ='１'!N5 -> 0
E6: 女子 | I6: 又は団体名
G7: ✔をつけてください
D8: 注：氏名・ふりがな・生年月日・種目・距離・エントリータイムを入力してください。
D9: 必ずふりがなを記入 | M9: 参加種目に☑
C10: フリガナ | F10: ﾈﾘﾏ ﾀﾛｳ | M10: TRUE | N10: 自由形 | P10: FALSE | Q10: 背泳ぎ | S10: FALSE | T10: 自由形 | V10: TRUE | W10: 背泳ぎ | Y10: リレーのみ参加する方はここに☑ | AF10: 合計
B11: 氏名 | D11: 練馬 太郎 | M11: FALSE | N11: ﾊﾞﾀﾌﾗｲ | P11: FALSE | Q11: 平泳ぎ | S11: FALSE | T11: ﾊﾞﾀﾌﾗｲ | V11: FALSE | W11: 平泳ぎ | Y11: FALSE | Z11: フリーリレー | AF11: 種目数
M12: FALSE | N12: 個人ﾒﾄﾞﾚｰ | P12: 100 | R12: m | S12: FALSE | T12: 個人ﾒﾄﾞﾚｰ | V12: 50 | X12: m | Y12: FALSE | Z12: 混合フリーリレー | AF12: =COUNTIF(M10:AD13,TRUE) -> 2
B13: 西暦/月/日 | F13: 20080925 | L13: 歳 | M13: 1 | N13: 分 | O13: 15 | Q13: 秒 | R13: 5 | T13: 分 | U13: 38 | W13: 秒 | X13: 8 | Y13: FALSE | Z13: メドレーリレー | AF13: 種目
M14: ↑エントリータイムを記入
C15: フリガナ | M15: FALSE | N15: 自由形 | P15: FALSE | Q15: 背泳ぎ | S15: FALSE | T15: 自由形 | V15: FALSE | W15: 背泳ぎ | Y15: リレーのみ参加する方はここに☑ | AF15: 合計
B16: 氏名 | M16: FALSE | N16: ﾊﾞﾀﾌﾗｲ | P16: FALSE | Q16: 平泳ぎ | S16: FALSE | T16: ﾊﾞﾀﾌﾗｲ | V16: FALSE | W16: 平泳ぎ | Y16: FALSE | Z16: フリーリレー | AF16: 種目数
M17: FALSE | N17: 個人ﾒﾄﾞﾚｰ | R17: m | S17: FALSE | T17: 個人ﾒﾄﾞﾚｰ | X17: m | Y17: FALSE | Z17: 混合フリーリレー | AF17: =COUNTIF(M15:AD18,TRUE) -> 0
B18: 西暦/月/日 | L18: 歳 | N18: 分 | Q18: 秒 | T18: 分 | W18: 秒 | Y18: FALSE | Z18: メドレーリレー | AF18: 種目
C20: フリガナ | M20: FALSE | N20: 自由形 | P20: FALSE | Q20: 背泳ぎ | S20: FALSE | T20: 自由形 | V20: FALSE | W20: 背泳ぎ | Y20: リレーのみ参加する方はここに☑ | AF20: 合計
B21: 氏名 | M21: FALSE | N21: ﾊﾞﾀﾌﾗｲ | P21: FALSE | Q21: 平泳ぎ | S21: FALSE | T21: ﾊﾞﾀﾌﾗｲ | V21: FALSE | W21: 平泳ぎ | Y21: FALSE | Z21: フリーリレー | AF21: 種目数
M22: FALSE | N22: 個人ﾒﾄﾞﾚｰ | R22: m | S22: FALSE | T22: 個人ﾒﾄﾞﾚｰ | X22: m | Y22: FALSE | Z22: 混合フリーリレー | AF22: =COUNTIF(M20:AD23,TRUE) -> 0
B23: 西暦/月/日 | L23: 歳 | N23: 分 | Q23: 秒 | T23: 分 | W23: 秒 | Y23: FALSE | Z23: メドレーリレー | AF23: 種目
C25: フリガナ | M25: FALSE | N25: 自由形 | P25: FALSE | Q25: 背泳ぎ | S25: FALSE | T25: 自由形 | V25: FALSE | W25: 背泳ぎ | Y25: リレーのみ参加する方はここに☑ | AF25: 合計
B26: 氏名 | M26: FALSE | N26: ﾊﾞﾀﾌﾗｲ | P26: FALSE | Q26: 平泳ぎ | S26: FALSE | T26: ﾊﾞﾀﾌﾗｲ | V26: FALSE | W26: 平泳ぎ | Y26: FALSE | Z26: フリーリレー | AF26: 種目数
M27: FALSE | N27: 個人ﾒﾄﾞﾚｰ | R27: m | S27: FALSE | T27: 個人ﾒﾄﾞﾚｰ | X27: m | Y27: FALSE | Z27: 混合フリーリレー | AF27: =COUNTIF(M25:AD28,TRUE) -> 0
B28: 西暦/月/日 | L28: 歳 | N28: 分 | Q28: 秒 | T28: 分 | W28: 秒 | Y28: FALSE | Z28: メドレーリレー | AF28: 種目
C30: フリガナ | M30: FALSE | N30: 自由形 | P30: FALSE | Q30: 背泳ぎ | S30: FALSE | T30: 自由形 | V30: FALSE | W30: 背泳ぎ | Y30: リレーのみ参加する方はここに☑ | AF30: 合計
B31: 氏名 | M31: FALSE | N31: ﾊﾞﾀﾌﾗｲ | P31: FALSE | Q31: 平泳ぎ | S31: FALSE | T31: ﾊﾞﾀﾌﾗｲ | V31: FALSE | W31: 平泳ぎ | Y31: FALSE | Z31: フリーリレー | AF31: 種目数
M32: FALSE | N32: 個人ﾒﾄﾞﾚｰ | R32: m | S32: FALSE | T32: 個人ﾒﾄﾞﾚｰ | X32: m | Y32: FALSE | Z32: 混合フリーリレー | AF32: =COUNTIF(M30:AD33,TRUE) -> 0
B33: 西暦/月/日 | L33: 歳 | N33: 分 | Q33: 秒 | T33: 分 | W33: 秒 | Y33: FALSE | Z33: メドレーリレー | AF33: 種目
C35: フリガナ | M35: FALSE | N35: 自由形 | P35: FALSE | Q35: 背泳ぎ | S35: FALSE | T35: 自由形 | V35: FALSE | W35: 背泳ぎ | Y35: リレーのみ参加する方はここに☑ | AF35: 合計
B36: 氏名 | M36: FALSE | N36: ﾊﾞﾀﾌﾗｲ | P36: FALSE | Q36: 平泳ぎ | S36: FALSE | T36: ﾊﾞﾀﾌﾗｲ | V36: FALSE | W36: 平泳ぎ | Y36: FALSE | Z36: フリーリレー | AF36: 種目数
M37: FALSE | N37: 個人ﾒﾄﾞﾚｰ | R37: m | S37: FALSE | T37: 個人ﾒﾄﾞﾚｰ | X37: m | Y37: FALSE | Z37: 混合フリーリレー | AF37: =COUNTIF(M35:AD38,TRUE) -> 0
B38: 西暦/月/日 | L38: 歳 | N38: 分 | Q38: 秒 | T38: 分 | W38: 秒 | Y38: FALSE | Z38: メドレーリレー | AF38: 種目
C40: フリガナ | M40: FALSE | N40: 自由形 | P40: FALSE | Q40: 背泳ぎ | S40: FALSE | T40: 自由形 | V40: FALSE | W40: 背泳ぎ | Y40: リレーのみ参加する方はここに☑ | AF40: 合計
B41: 氏名 | M41: FALSE | N41: ﾊﾞﾀﾌﾗｲ | P41: FALSE | Q41: 平泳ぎ | S41: FALSE | T41: ﾊﾞﾀﾌﾗｲ | V41: FALSE | W41: 平泳ぎ | Y41: FALSE | Z41: フリーリレー | AF41: 種目数
M42: FALSE | N42: 個人ﾒﾄﾞﾚｰ | R42: m | S42: FALSE | T42: 個人ﾒﾄﾞﾚｰ | X42: m | Y42: FALSE | Z42: 混合フリーリレー | AF42: =COUNTIF(M40:AD43,TRUE) -> 0
B43: 西暦/月/日 | L43: 歳 | N43: 分 | Q43: 秒 | T43: 分 | W43: 秒 | Y43: FALSE | Z43: メドレーリレー | AF43: 種目
C45: フリガナ | M45: FALSE | N45: 自由形 | P45: FALSE | Q45: 背泳ぎ | S45: FALSE | T45: 自由形 | V45: FALSE | W45: 背泳ぎ | Y45: リレーのみ参加する方はここに☑ | AF45: 合計
B46: 氏名 | M46: FALSE | N46: ﾊﾞﾀﾌﾗｲ | P46: FALSE | Q46: 平泳ぎ | S46: FALSE | T46: ﾊﾞﾀﾌﾗｲ | V46: FALSE | W46: 平泳ぎ | Y46: FALSE | Z46: フリーリレー | AF46: 種目数
M47: FALSE | N47: 個人ﾒﾄﾞﾚｰ | R47: m | S47: FALSE | T47: 個人ﾒﾄﾞﾚｰ | X47: m | Y47: FALSE | Z47: 混合フリーリレー | AF47: =COUNTIF(M45:AD48,TRUE) -> 0
B48: 西暦/月/日 | L48: 歳 | N48: 分 | Q48: 秒 | T48: 分 | W48: 秒 | Y48: FALSE | Z48: メドレーリレー | AF48: 種目

Sheet ７
B2: 書式２ | G2: ※ | H2: 申込用紙は男女別に作成。 １枚に男女一緒には記入しないこと。
B3: メール申込用 | H3: 年齢は大会当日の年齢を入力。 リレーは別紙書式3に記入。 | AB3: 枚目/ | AF3: 枚中
B5: 性別 | E5: 男子 | I5: 個人名 | N5: ='１'!N5 -> 0
E6: 女子 | I6: 又は団体名
G7: ✔をつけてください
D8: 注：氏名・ふりがな・生年月日・種目・距離・エントリータイムを入力してください。
D9: 必ずふりがなを記入 | M9: 参加種目に☑
C10: フリガナ | F10: ﾈﾘﾏ ﾀﾛｳ | M10: TRUE | N10: 自由形 | P10: FALSE | Q10: 背泳ぎ | S10: FALSE | T10: 自由形 | V10: TRUE | W10: 背泳ぎ | Y10: リレーのみ参加する方はここに☑ | AF10: 合計
B11: 氏名 | D11: 練馬 太郎 | M11: FALSE | N11: ﾊﾞﾀﾌﾗｲ | P11: FALSE | Q11: 平泳ぎ | S11: FALSE | T11: ﾊﾞﾀﾌﾗｲ | V11: FALSE | W11: 平泳ぎ | Y11: FALSE | Z11: フリーリレー | AF11: 種目数
M12: FALSE | N12: 個人ﾒﾄﾞﾚｰ | P12: 100 | R12: m | S12: FALSE | T12: 個人ﾒﾄﾞﾚｰ | V12: 50 | X12: m | Y12: FALSE | Z12: 混合フリーリレー | AF12: =COUNTIF(M10:AD13,TRUE) -> 2
B13: 西暦/月/日 | F13: 20080925 | L13: 歳 | M13: 1 | N13: 分 | O13: 15 | Q13: 秒 | R13: 5 | T13: 分 | U13: 38 | W13: 秒 | X13: 8 | Y13: FALSE | Z13: メドレーリレー | AF13: 種目
M14: ↑エントリータイムを記入
C15: フリガナ | M15: FALSE | N15: 自由形 | P15: FALSE | Q15: 背泳ぎ | S15: FALSE | T15: 自由形 | V15: FALSE | W15: 背泳ぎ | Y15: リレーのみ参加する方はここに☑ | AF15: 合計
B16: 氏名 | M16: FALSE | N16: ﾊﾞﾀﾌﾗｲ | P16: FALSE | Q16: 平泳ぎ | S16: FALSE | T16: ﾊﾞﾀﾌﾗｲ | V16: FALSE | W16: 平泳ぎ | Y16: FALSE | Z16: フリーリレー | AF16: 種目数
M17: FALSE | N17: 個人ﾒﾄﾞﾚｰ | R17: m | S17: FALSE | T17: 個人ﾒﾄﾞﾚｰ | X17: m | Y17: FALSE | Z17: 混合フリーリレー | AF17: =COUNTIF(M15:AD18,TRUE) -> 0
B18: 西暦/月/日 | L18: 歳 | N18: 分 | Q18: 秒 | T18: 分 | W18: 秒 | Y18: FALSE | Z18: メドレーリレー | AF18: 種目
C20: フリガナ | M20: FALSE | N20: 自由形 | P20: FALSE | Q20: 背泳ぎ | S20: FALSE | T20: 自由形 | V20: FALSE | W20: 背泳ぎ | Y20: リレーのみ参加する方はここに☑ | AF20: 合計
B21: 氏名 | M21: FALSE | N21: ﾊﾞﾀﾌﾗｲ | P21: FALSE | Q21: 平泳ぎ | S21: FALSE | T21: ﾊﾞﾀﾌﾗｲ | V21: FALSE | W21: 平泳ぎ | Y21: FALSE | Z21: フリーリレー | AF21: 種目数
M22: FALSE | N22: 個人ﾒﾄﾞﾚｰ | R22: m | S22: FALSE | T22: 個人ﾒﾄﾞﾚｰ | X22: m | Y22: FALSE | Z22: 混合フリーリレー | AF22: =COUNTIF(M20:AD23,TRUE) -> 0
B23: 西暦/月/日 | L23: 歳 | N23: 分 | Q23: 秒 | T23: 分 | W23: 秒 | Y23: FALSE | Z23: メドレーリレー | AF23: 種目
C25: フリガナ | M25: FALSE | N25: 自由形 | P25: FALSE | Q25: 背泳ぎ | S25: FALSE | T25: 自由形 | V25: FALSE | W25: 背泳ぎ | Y25: リレーのみ参加する方はここに☑ | AF25: 合計
B26: 氏名 | M26: FALSE | N26: ﾊﾞﾀﾌﾗｲ | P26: FALSE | Q26: 平泳ぎ | S26: FALSE | T26: ﾊﾞﾀﾌﾗｲ | V26: FALSE | W26: 平泳ぎ | Y26: FALSE | Z26: フリーリレー | AF26: 種目数
M27: FALSE | N27: 個人ﾒﾄﾞﾚｰ | R27: m | S27: FALSE | T27: 個人ﾒﾄﾞﾚｰ | X27: m | Y27: FALSE | Z27: 混合フリーリレー | AF27: =COUNTIF(M25:AD28,TRUE) -> 0
B28: 西暦/月/日 | L28: 歳 | N28: 分 | Q28: 秒 | T28: 分 | W28: 秒 | Y28: FALSE | Z28: メドレーリレー | AF28: 種目
C30: フリガナ | M30: FALSE | N30: 自由形 | P30: FALSE | Q30: 背泳ぎ | S30: FALSE | T30: 自由形 | V30: FALSE | W30: 背泳ぎ | Y30: リレーのみ参加する方はここに☑ | AF30: 合計
B31: 氏名 | M31: FALSE | N31: ﾊﾞﾀﾌﾗｲ | P31: FALSE | Q31: 平泳ぎ | S31: FALSE | T31: ﾊﾞﾀﾌﾗｲ | V31: FALSE | W31: 平泳ぎ | Y31: FALSE | Z31: フリーリレー | AF31: 種目数
M32: FALSE | N32: 個人ﾒﾄﾞﾚｰ | R32: m | S32: FALSE | T32: 個人ﾒﾄﾞﾚｰ | X32: m | Y32: FALSE | Z32: 混合フリーリレー | AF32: =COUNTIF(M30:AD33,TRUE) -> 0
B33: 西暦/月/日 | L33: 歳 | N33: 分 | Q33: 秒 | T33: 分 | W33: 秒 | Y33: FALSE | Z33: メドレーリレー | AF33: 種目
C35: フリガナ | M35: FALSE | N35: 自由形 | P35: FALSE | Q35: 背泳ぎ | S35: FALSE | T35: 自由形 | V35: FALSE | W35: 背泳ぎ | Y35: リレーのみ参加する方はここに☑ | AF35: 合計
B36: 氏名 | M36: FALSE | N36: ﾊﾞﾀﾌﾗｲ | P36: FALSE | Q36: 平泳ぎ | S36: FALSE | T36: ﾊﾞﾀﾌﾗｲ | V36: FALSE | W36: 平泳ぎ | Y36: FALSE | Z36: フリーリレー | AF36: 種目数
M37: FALSE | N37: 個人ﾒﾄﾞﾚｰ | R37: m | S37: FALSE | T37: 個人ﾒﾄﾞﾚｰ | X37: m | Y37: FALSE | Z37: 混合フリーリレー | AF37: =COUNTIF(M35:AD38,TRUE) -> 0
B38: 西暦/月/日 | L38: 歳 | N38: 分 | Q38: 秒 | T38: 分 | W38: 秒 | Y38: FALSE | Z38: メドレーリレー | AF38: 種目
C40: フリガナ | M40: FALSE | N40: 自由形 | P40: FALSE | Q40: 背泳ぎ | S40: FALSE | T40: 自由形 | V40: FALSE | W40: 背泳ぎ | Y40: リレーのみ参加する方はここに☑ | AF40: 合計
B41: 氏名 | M41: FALSE | N41: ﾊﾞﾀﾌﾗｲ | P41: FALSE | Q41: 平泳ぎ | S41: FALSE | T41: ﾊﾞﾀﾌﾗｲ | V41: FALSE | W41: 平泳ぎ | Y41: FALSE | Z41: フリーリレー | AF41: 種目数
M42: FALSE | N42: 個人ﾒﾄﾞﾚｰ | R42: m | S42: FALSE | T42: 個人ﾒﾄﾞﾚｰ | X42: m | Y42: FALSE | Z42: 混合フリーリレー | AF42: =COUNTIF(M40:AD43,TRUE) -> 0
B43: 西暦/月/日 | L43: 歳 | N43: 分 | Q43: 秒 | T43: 分 | W43: 秒 | Y43: FALSE | Z43: メドレーリレー | AF43: 種目
C45: フリガナ | M45: FALSE | N45: 自由形 | P45: FALSE | Q45: 背泳ぎ | S45: FALSE | T45: 自由形 | V45: FALSE | W45: 背泳ぎ | Y45: リレーのみ参加する方はここに☑ | AF45: 合計
B46: 氏名 | M46: FALSE | N46: ﾊﾞﾀﾌﾗｲ | P46: FALSE | Q46: 平泳ぎ | S46: FALSE | T46: ﾊﾞﾀﾌﾗｲ | V46: FALSE | W46: 平泳ぎ | Y46: FALSE | Z46: フリーリレー | AF46: 種目数
M47: FALSE | N47: 個人ﾒﾄﾞﾚｰ | R47: m | S47: FALSE | T47: 個人ﾒﾄﾞﾚｰ | X47: m | Y47: FALSE | Z47: 混合フリーリレー | AF47: =COUNTIF(M45:AD48,TRUE) -> 0
B48: 西暦/月/日 | L48: 歳 | N48: 分 | Q48: 秒 | T48: 分 | W48: 秒 | Y48: FALSE | Z48: メドレーリレー | AF48: 種目

Sheet ８
B2: 書式２ | G2: ※ | H2: 申込用紙は男女別に作成。 １枚に男女一緒には記入しないこと。
B3: メール申込用 | H3: 年齢は大会当日の年齢を入力。 リレーは別紙書式3に記入。 | AB3: 枚目/ | AF3: 枚中
B5: 性別 | E5: 男子 | I5: 個人名 | N5: ='１'!N5 -> 0
E6: 女子 | I6: 又は団体名
G7: ✔をつけてください
D8: 注：氏名・ふりがな・生年月日・種目・距離・エントリータイムを入力してください。
D9: 必ずふりがなを記入 | M9: 参加種目に☑
C10: フリガナ | F10: ﾈﾘﾏ ﾀﾛｳ | M10: TRUE | N10: 自由形 | P10: FALSE | Q10: 背泳ぎ | S10: FALSE | T10: 自由形 | V10: TRUE | W10: 背泳ぎ | Y10: リレーのみ参加する方はここに☑ | AF10: 合計
B11: 氏名 | D11: 練馬 太郎 | M11: FALSE | N11: ﾊﾞﾀﾌﾗｲ | P11: FALSE | Q11: 平泳ぎ | S11: FALSE | T11: ﾊﾞﾀﾌﾗｲ | V11: FALSE | W11: 平泳ぎ | Y11: FALSE | Z11: フリーリレー | AF11: 種目数
M12: FALSE | N12: 個人ﾒﾄﾞﾚｰ | P12: 100 | R12: m | S12: FALSE | T12: 個人ﾒﾄﾞﾚｰ | V12: 50 | X12: m | Y12: FALSE | Z12: 混合フリーリレー | AF12: =COUNTIF(M10:AD13,TRUE) -> 2
B13: 西暦/月/日 | F13: 20080925 | L13: 歳 | M13: 1 | N13: 分 | O13: 15 | Q13: 秒 | R13: 5 | T13: 分 | U13: 38 | W13: 秒 | X13: 8 | Y13: FALSE | Z13: メドレーリレー | AF13: 種目
M14: ↑エントリータイムを記入
C15: フリガナ | M15: FALSE | N15: 自由形 | P15: FALSE | Q15: 背泳ぎ | S15: FALSE | T15: 自由形 | V15: FALSE | W15: 背泳ぎ | Y15: リレーのみ参加する方はここに☑ | AF15: 合計
B16: 氏名 | M16: FALSE | N16: ﾊﾞﾀﾌﾗｲ | P16: FALSE | Q16: 平泳ぎ | S16: FALSE | T16: ﾊﾞﾀﾌﾗｲ | V16: FALSE | W16: 平泳ぎ | Y16: FALSE | Z16: フリーリレー | AF16: 種目数
M17: FALSE | N17: 個人ﾒﾄﾞﾚｰ | R17: m | S17: FALSE | T17: 個人ﾒﾄﾞﾚｰ | X17: m | Y17: FALSE | Z17: 混合フリーリレー | AF17: =COUNTIF(M15:AD18,TRUE) -> 0
B18: 西暦/月/日 | L18: 歳 | N18: 分 | Q18: 秒 | T18: 分 | W18: 秒 | Y18: FALSE | Z18: メドレーリレー | AF18: 種目
C20: フリガナ | M20: FALSE | N20: 自由形 | P20: FALSE | Q20: 背泳ぎ | S20: FALSE | T20: 自由形 | V20: FALSE | W20: 背泳ぎ | Y20: リレーのみ参加する方はここに☑ | AF20: 合計
B21: 氏名 | M21: FALSE | N21: ﾊﾞﾀﾌﾗｲ | P21: FALSE | Q21: 平泳ぎ | S21: FALSE | T21: ﾊﾞﾀﾌﾗｲ | V21: FALSE | W21: 平泳ぎ | Y21: FALSE | Z21: フリーリレー | AF21: 種目数
M22: FALSE | N22: 個人ﾒﾄﾞﾚｰ | R22: m | S22: FALSE | T22: 個人ﾒﾄﾞﾚｰ | X22: m | Y22: FALSE | Z22: 混合フリーリレー | AF22: =COUNTIF(M20:AD23,TRUE) -> 0
B23: 西暦/月/日 | L23: 歳 | N23: 分 | Q23: 秒 | T23: 分 | W23: 秒 | Y23: FALSE | Z23: メドレーリレー | AF23: 種目
C25: フリガナ | M25: FALSE | N25: 自由形 | P25: FALSE | Q25: 背泳ぎ | S25: FALSE | T25: 自由形 | V25: FALSE | W25: 背泳ぎ | Y25: リレーのみ参加する方はここに☑ | AF25: 合計
B26: 氏名 | M26: FALSE | N26: ﾊﾞﾀﾌﾗｲ | P26: FALSE | Q26: 平泳ぎ | S26: FALSE | T26: ﾊﾞﾀﾌﾗｲ | V26: FALSE | W26: 平泳ぎ | Y26: FALSE | Z26: フリーリレー | AF26: 種目数
M27: FALSE | N27: 個人ﾒﾄﾞﾚｰ | R27: m | S27: FALSE | T27: 個人ﾒﾄﾞﾚｰ | X27: m | Y27: FALSE | Z27: 混合フリーリレー | AF27: =COUNTIF(M25:AD28,TRUE) -> 0
B28: 西暦/月/日 | L28: 歳 | N28: 分 | Q28: 秒 | T28: 分 | W28: 秒 | Y28: FALSE | Z28: メドレーリレー | AF28: 種目
C30: フリガナ | M30: FALSE | N30: 自由形 | P30: FALSE | Q30: 背泳ぎ | S30: FALSE | T30: 自由形 | V30: FALSE | W30: 背泳ぎ | Y30: リレーのみ参加する方はここに☑ | AF30: 合計
B31: 氏名 | M31: FALSE | N31: ﾊﾞﾀﾌﾗｲ | P31: FALSE | Q31: 平泳ぎ | S31: FALSE | T31: ﾊﾞﾀﾌﾗｲ | V31: FALSE | W31: 平泳ぎ | Y31: FALSE | Z31: フリーリレー | AF31: 種目数
M32: FALSE | N32: 個人ﾒﾄﾞﾚｰ | R32: m | S32: FALSE | T32: 個人ﾒﾄﾞﾚｰ | X32: m | Y32: FALSE | Z32: 混合フリーリレー | AF32: =COUNTIF(M30:AD33,TRUE) -> 0
B33: 西暦/月/日 | L33: 歳 | N33: 分 | Q33: 秒 | T33: 分 | W33: 秒 | Y33: FALSE | Z33: メドレーリレー | AF33: 種目
C35: フリガナ | M35: FALSE | N35: 自由形 | P35: FALSE | Q35: 背泳ぎ | S35: FALSE | T35: 自由形 | V35: FALSE | W35: 背泳ぎ | Y35: リレーのみ参加する方はここに☑ | AF35: 合計
B36: 氏名 | M36: FALSE | N36: ﾊﾞﾀﾌﾗｲ | P36: FALSE | Q36: 平泳ぎ | S36: FALSE | T36: ﾊﾞﾀﾌﾗｲ | V36: FALSE | W36: 平泳ぎ | Y36: FALSE | Z36: フリーリレー | AF36: 種目数
M37: FALSE | N37: 個人ﾒﾄﾞﾚｰ | R37: m | S37: FALSE | T37: 個人ﾒﾄﾞﾚｰ | X37: m | Y37: FALSE | Z37: 混合フリーリレー | AF37: =COUNTIF(M35:AD38,TRUE) -> 0
B38: 西暦/月/日 | L38: 歳 | N38: 分 | Q38: 秒 | T38: 分 | W38: 秒 | Y38: FALSE | Z38: メドレーリレー | AF38: 種目
C40: フリガナ | M40: FALSE | N40: 自由形 | P40: FALSE | Q40: 背泳ぎ | S40: FALSE | T40: 自由形 | V40: FALSE | W40: 背泳ぎ | Y40: リレーのみ参加する方はここに☑ | AF40: 合計
B41: 氏名 | M41: FALSE | N41: ﾊﾞﾀﾌﾗｲ | P41: FALSE | Q41: 平泳ぎ | S41: FALSE | T41: ﾊﾞﾀﾌﾗｲ | V41: FALSE | W41: 平泳ぎ | Y41: FALSE | Z41: フリーリレー | AF41: 種目数
M42: FALSE | N42: 個人ﾒﾄﾞﾚｰ | R42: m | S42: FALSE | T42: 個人ﾒﾄﾞﾚｰ | X42: m | Y42: FALSE | Z42: 混合フリーリレー | AF42: =COUNTIF(M40:AD43,TRUE) -> 0
B43: 西暦/月/日 | L43: 歳 | N43: 分 | Q43: 秒 | T43: 分 | W43: 秒 | Y43: FALSE | Z43: メドレーリレー | AF43: 種目
C45: フリガナ | M45: FALSE | N45: 自由形 | P45: FALSE | Q45: 背泳ぎ | S45: FALSE | T45: 自由形 | V45: FALSE | W45: 背泳ぎ | Y45: リレーのみ参加する方はここに☑ | AF45: 合計
B46: 氏名 | M46: FALSE | N46: ﾊﾞﾀﾌﾗｲ | P46: FALSE | Q46: 平泳ぎ | S46: FALSE | T46: ﾊﾞﾀﾌﾗｲ | V46: FALSE | W46: 平泳ぎ | Y46: FALSE | Z46: フリーリレー | AF46: 種目数
M47: FALSE | N47: 個人ﾒﾄﾞﾚｰ | R47: m | S47: FALSE | T47: 個人ﾒﾄﾞﾚｰ | X47: m | Y47: FALSE | Z47: 混合フリーリレー | AF47: =COUNTIF(M45:AD48,TRUE) -> 0
B48: 西暦/月/日 | L48: 歳 | N48: 分 | Q48: 秒 | T48: 分 | W48: 秒 | Y48: FALSE | Z48: メドレーリレー | AF48: 種目

Sheet ９
B2: 書式２ | G2: ※ | H2: 申込用紙は男女別に作成。 １枚に男女一緒には記入しないこと。
B3: メール申込用 | H3: 年齢は大会当日の年齢を入力。 リレーは別紙書式3に記入。 | AB3: 枚目/ | AF3: 枚中
B5: 性別 | E5: 男子 | I5: 個人名 | N5: ='１'!N5 -> 0
E6: 女子 | I6: 又は団体名
G7: ✔をつけてください
D8: 注：氏名・ふりがな・生年月日・種目・距離・エントリータイムを入力してください。
D9: 必ずふりがなを記入 | M9: 参加種目に☑
C10: フリガナ | F10: ﾈﾘﾏ ﾀﾛｳ | M10: TRUE | N10: 自由形 | P10: FALSE | Q10: 背泳ぎ | S10: FALSE | T10: 自由形 | V10: TRUE | W10: 背泳ぎ | Y10: リレーのみ参加する方はここに☑ | AF10: 合計
B11: 氏名 | D11: 練馬 太郎 | M11: FALSE | N11: ﾊﾞﾀﾌﾗｲ | P11: FALSE | Q11: 平泳ぎ | S11: FALSE | T11: ﾊﾞﾀﾌﾗｲ | V11: FALSE | W11: 平泳ぎ | Y11: FALSE | Z11: フリーリレー | AF11: 種目数
M12: FALSE | N12: 個人ﾒﾄﾞﾚｰ | P12: 100 | R12: m | S12: FALSE | T12: 個人ﾒﾄﾞﾚｰ | V12: 50 | X12: m | Y12: FALSE | Z12: 混合フリーリレー | AF12: =COUNTIF(M10:AD13,TRUE) -> 2
B13: 西暦/月/日 | F13: 20080925 | L13: 歳 | M13: 1 | N13: 分 | O13: 15 | Q13: 秒 | R13: 5 | T13: 分 | U13: 38 | W13: 秒 | X13: 8 | Y13: FALSE | Z13: メドレーリレー | AF13: 種目
M14: ↑エントリータイムを記入
C15: フリガナ | M15: FALSE | N15: 自由形 | P15: FALSE | Q15: 背泳ぎ | S15: FALSE | T15: 自由形 | V15: FALSE | W15: 背泳ぎ | Y15: リレーのみ参加する方はここに☑ | AF15: 合計
B16: 氏名 | M16: FALSE | N16: ﾊﾞﾀﾌﾗｲ | P16: FALSE | Q16: 平泳ぎ | S16: FALSE | T16: ﾊﾞﾀﾌﾗｲ | V16: FALSE | W16: 平泳ぎ | Y16: FALSE | Z16: フリーリレー | AF16: 種目数
M17: FALSE | N17: 個人ﾒﾄﾞﾚｰ | R17: m | S17: FALSE | T17: 個人ﾒﾄﾞﾚｰ | X17: m | Y17: FALSE | Z17: 混合フリーリレー | AF17: =COUNTIF(M15:AD18,TRUE) -> 0
B18: 西暦/月/日 | L18: 歳 | N18: 分 | Q18: 秒 | T18: 分 | W18: 秒 | Y18: FALSE | Z18: メドレーリレー | AF18: 種目
C20: フリガナ | M20: FALSE | N20: 自由形 | P20: FALSE | Q20: 背泳ぎ | S20: FALSE | T20: 自由形 | V20: FALSE | W20: 背泳ぎ | Y20: リレーのみ参加する方はここに☑ | AF20: 合計
B21: 氏名 | M21: FALSE | N21: ﾊﾞﾀﾌﾗｲ | P21: FALSE | Q21: 平泳ぎ | S21: FALSE | T21: ﾊﾞﾀﾌﾗｲ | V21: FALSE | W21: 平泳ぎ | Y21: FALSE | Z21: フリーリレー | AF21: 種目数
M22: FALSE | N22: 個人ﾒﾄﾞﾚｰ | R22: m | S22: FALSE | T22: 個人ﾒﾄﾞﾚｰ | X22: m | Y22: FALSE | Z22: 混合フリーリレー | AF22: =COUNTIF(M20:AD23,TRUE) -> 0
B23: 西暦/月/日 | L23: 歳 | N23: 分 | Q23: 秒 | T23: 分 | W23: 秒 | Y23: FALSE | Z23: メドレーリレー | AF23: 種目
C25: フリガナ | M25: FALSE | N25: 自由形 | P25: FALSE | Q25: 背泳ぎ | S25: FALSE | T25: 自由形 | V25: FALSE | W25: 背泳ぎ | Y25: リレーのみ参加する方はここに☑ | AF25: 合計
B26: 氏名 | M26: FALSE | N26: ﾊﾞﾀﾌﾗｲ | P26: FALSE | Q26: 平泳ぎ | S26: FALSE | T26: ﾊﾞﾀﾌﾗｲ | V26: FALSE | W26: 平泳ぎ | Y26: FALSE | Z26: フリーリレー | AF26: 種目数
M27: FALSE | N27: 個人ﾒﾄﾞﾚｰ | R27: m | S27: FALSE | T27: 個人ﾒﾄﾞﾚｰ | X27: m | Y27: FALSE | Z27: 混合フリーリレー | AF27: =COUNTIF(M25:AD28,TRUE) -> 0
B28: 西暦/月/日 | L28: 歳 | N28: 分 | Q28: 秒 | T28: 分 | W28: 秒 | Y28: FALSE | Z28: メドレーリレー | AF28: 種目
C30: フリガナ | M30: FALSE | N30: 自由形 | P30: FALSE | Q30: 背泳ぎ | S30: FALSE | T30: 自由形 | V30: FALSE | W30: 背泳ぎ | Y30: リレーのみ参加する方はここに☑ | AF30: 合計
B31: 氏名 | M31: FALSE | N31: ﾊﾞﾀﾌﾗｲ | P31: FALSE | Q31: 平泳ぎ | S31: FALSE | T31: ﾊﾞﾀﾌﾗｲ | V31: FALSE | W31: 平泳ぎ | Y31: FALSE | Z31: フリーリレー | AF31: 種目数
M32: FALSE | N32: 個人ﾒﾄﾞﾚｰ | R32: m | S32: FALSE | T32: 個人ﾒﾄﾞﾚｰ | X32: m | Y32: FALSE | Z32: 混合フリーリレー | AF32: =COUNTIF(M30:AD33,TRUE) -> 0
B33: 西暦/月/日 | L33: 歳 | N33: 分 | Q33: 秒 | T33: 分 | W33: 秒 | Y33: FALSE | Z33: メドレーリレー | AF33: 種目
C35: フリガナ | M35: FALSE | N35: 自由形 | P35: FALSE | Q35: 背泳ぎ | S35: FALSE | T35: 自由形 | V35: FALSE | W35: 背泳ぎ | Y35: リレーのみ参加する方はここに☑ | AF35: 合計
B36: 氏名 | M36: FALSE | N36: ﾊﾞﾀﾌﾗｲ | P36: FALSE | Q36: 平泳ぎ | S36: FALSE | T36: ﾊﾞﾀﾌﾗｲ | V36: FALSE | W36: 平泳ぎ | Y36: FALSE | Z36: フリーリレー | AF36: 種目数
M37: FALSE | N37: 個人ﾒﾄﾞﾚｰ | R37: m | S37: FALSE | T37: 個人ﾒﾄﾞﾚｰ | X37: m | Y37: FALSE | Z37: 混合フリーリレー | AF37: =COUNTIF(M35:AD38,TRUE) -> 0
B38: 西暦/月/日 | L38: 歳 | N38: 分 | Q38: 秒 | T38: 分 | W38: 秒 | Y38: FALSE | Z38: メドレーリレー | AF38: 種目
C40: フリガナ | M40: FALSE | N40: 自由形 | P40: FALSE | Q40: 背泳ぎ | S40: FALSE | T40: 自由形 | V40: FALSE | W40: 背泳ぎ | Y40: リレーのみ参加する方はここに☑ | AF40: 合計
B41: 氏名 | M41: FALSE | N41: ﾊﾞﾀﾌﾗｲ | P41: FALSE | Q41: 平泳ぎ | S41: FALSE | T41: ﾊﾞﾀﾌﾗｲ | V41: FALSE | W41: 平泳ぎ | Y41: FALSE | Z41: フリーリレー | AF41: 種目数
M42: FALSE | N42: 個人ﾒﾄﾞﾚｰ | R42: m | S42: FALSE | T42: 個人ﾒﾄﾞﾚｰ | X42: m | Y42: FALSE | Z42: 混合フリーリレー | AF42: =COUNTIF(M40:AD43,TRUE) -> 0
B43: 西暦/月/日 | L43: 歳 | N43: 分 | Q43: 秒 | T43: 分 | W43: 秒 | Y43: FALSE | Z43: メドレーリレー | AF43: 種目
C45: フリガナ | M45: FALSE | N45: 自由形 | P45: FALSE | Q45: 背泳ぎ | S45: FALSE | T45: 自由形 | V45: FALSE | W45: 背泳ぎ | Y45: リレーのみ参加する方はここに☑ | AF45: 合計
B46: 氏名 | M46: FALSE | N46: ﾊﾞﾀﾌﾗｲ | P46: FALSE | Q46: 平泳ぎ | S46: FALSE | T46: ﾊﾞﾀﾌﾗｲ | V46: FALSE | W46: 平泳ぎ | Y46: FALSE | Z46: フリーリレー | AF46: 種目数
M47: FALSE | N47: 個人ﾒﾄﾞﾚｰ | R47: m | S47: FALSE | T47: 個人ﾒﾄﾞﾚｰ | X47: m | Y47: FALSE | Z47: 混合フリーリレー | AF47: =COUNTIF(M45:AD48,TRUE) -> 0
B48: 西暦/月/日 | L48: 歳 | N48: 分 | Q48: 秒 | T48: 分 | W48: 秒 | Y48: FALSE | Z48: メドレーリレー | AF48: 種目

Sheet １０
B2: 書式２ | G2: ※ | H2: 申込用紙は男女別に作成。 １枚に男女一緒には記入しないこと。
B3: メール申込用 | H3: 年齢は大会当日の年齢を入力。 リレーは別紙書式3に記入。 | AB3: 枚目/ | AF3: 枚中
B5: 性別 | E5: 男子 | I5: 個人名 | N5: ='１'!N5 -> 0
E6: 女子 | I6: 又は団体名
G7: ✔をつけてください
D8: 注：氏名・ふりがな・生年月日・種目・距離・エントリータイムを入力してください。
D9: 必ずふりがなを記入 | M9: 参加種目に☑
C10: フリガナ | F10: ﾈﾘﾏ ﾀﾛｳ | M10: TRUE | N10: 自由形 | P10: FALSE | Q10: 背泳ぎ | S10: FALSE | T10: 自由形 | V10: TRUE | W10: 背泳ぎ | Y10: リレーのみ参加する方はここに☑ | AF10: 合計
B11: 氏名 | D11: 練馬 太郎 | M11: FALSE | N11: ﾊﾞﾀﾌﾗｲ | P11: FALSE | Q11: 平泳ぎ | S11: FALSE | T11: ﾊﾞﾀﾌﾗｲ | V11: FALSE | W11: 平泳ぎ | Y11: FALSE | Z11: フリーリレー | AF11: 種目数
M12: FALSE | N12: 個人ﾒﾄﾞﾚｰ | P12: 100 | R12: m | S12: FALSE | T12: 個人ﾒﾄﾞﾚｰ | V12: 50 | X12: m | Y12: FALSE | Z12: 混合フリーリレー | AF12: =COUNTIF(M10:AD13,TRUE) -> 2
B13: 西暦/月/日 | F13: 20080925 | L13: 歳 | M13: 1 | N13: 分 | O13: 15 | Q13: 秒 | R13: 5 | T13: 分 | U13: 38 | W13: 秒 | X13: 8 | Y13: FALSE | Z13: メドレーリレー | AF13: 種目
M14: ↑エントリータイムを記入
C15: フリガナ | M15: FALSE | N15: 自由形 | P15: FALSE | Q15: 背泳ぎ | S15: FALSE | T15: 自由形 | V15: FALSE | W15: 背泳ぎ | Y15: リレーのみ参加する方はここに☑ | AF15: 合計
B16: 氏名 | M16: FALSE | N16: ﾊﾞﾀﾌﾗｲ | P16: FALSE | Q16: 平泳ぎ | S16: FALSE | T16: ﾊﾞﾀﾌﾗｲ | V16: FALSE | W16: 平泳ぎ | Y16: FALSE | Z16: フリーリレー | AF16: 種目数
M17: FALSE | N17: 個人ﾒﾄﾞﾚｰ | R17: m | S17: FALSE | T17: 個人ﾒﾄﾞﾚｰ | X17: m | Y17: FALSE | Z17: 混合フリーリレー | AF17: =COUNTIF(M15:AD18,TRUE) -> 0
B18: 西暦/月/日 | L18: 歳 | N18: 分 | Q18: 秒 | T18: 分 | W18: 秒 | Y18: FALSE | Z18: メドレーリレー | AF18: 種目
C20: フリガナ | M20: FALSE | N20: 自由形 | P20: FALSE | Q20: 背泳ぎ | S20: FALSE | T20: 自由形 | V20: FALSE | W20: 背泳ぎ | Y20: リレーのみ参加する方はここに☑ | AF20: 合計
B21: 氏名 | M21: FALSE | N21: ﾊﾞﾀﾌﾗｲ | P21: FALSE | Q21: 平泳ぎ | S21: FALSE | T21: ﾊﾞﾀﾌﾗｲ | V21: FALSE | W21: 平泳ぎ | Y21: FALSE | Z21: フリーリレー | AF21: 種目数
M22: FALSE | N22: 個人ﾒﾄﾞﾚｰ | R22: m | S22: FALSE | T22: 個人ﾒﾄﾞﾚｰ | X22: m | Y22: FALSE | Z22: 混合フリーリレー | AF22: =COUNTIF(M20:AD23,TRUE) -> 0
B23: 西暦/月/日 | L23: 歳 | N23: 分 | Q23: 秒 | T23: 分 | W23: 秒 | Y23: FALSE | Z23: メドレーリレー | AF23: 種目
C25: フリガナ | M25: FALSE | N25: 自由形 | P25: FALSE | Q25: 背泳ぎ | S25: FALSE | T25: 自由形 | V25: FALSE | W25: 背泳ぎ | Y25: リレーのみ参加する方はここに☑ | AF25: 合計
B26: 氏名 | M26: FALSE | N26: ﾊﾞﾀﾌﾗｲ | P26: FALSE | Q26: 平泳ぎ | S26: FALSE | T26: ﾊﾞﾀﾌﾗｲ | V26: FALSE | W26: 平泳ぎ | Y26: FALSE | Z26: フリーリレー | AF26: 種目数
M27: FALSE | N27: 個人ﾒﾄﾞﾚｰ | R27: m | S27: FALSE | T27: 個人ﾒﾄﾞﾚｰ | X27: m | Y27: FALSE | Z27: 混合フリーリレー | AF27: =COUNTIF(M25:AD28,TRUE) -> 0
B28: 西暦/月/日 | L28: 歳 | N28: 分 | Q28: 秒 | T28: 分 | W28: 秒 | Y28: FALSE | Z28: メドレーリレー | AF28: 種目
C30: フリガナ | M30: FALSE | N30: 自由形 | P30: FALSE | Q30: 背泳ぎ | S30: FALSE | T30: 自由形 | V30: FALSE | W30: 背泳ぎ | Y30: リレーのみ参加する方はここに☑ | AF30: 合計
B31: 氏名 | M31: FALSE | N31: ﾊﾞﾀﾌﾗｲ | P31: FALSE | Q31: 平泳ぎ | S31: FALSE | T31: ﾊﾞﾀﾌﾗｲ | V31: FALSE | W31: 平泳ぎ | Y31: FALSE | Z31: フリーリレー | AF31: 種目数
M32: FALSE | N32: 個人ﾒﾄﾞﾚｰ | R32: m | S32: FALSE | T32: 個人ﾒﾄﾞﾚｰ | X32: m | Y32: FALSE | Z32: 混合フリーリレー | AF32: =COUNTIF(M30:AD33,TRUE) -> 0
B33: 西暦/月/日 | L33: 歳 | N33: 分 | Q33: 秒 | T33: 分 | W33: 秒 | Y33: FALSE | Z33: メドレーリレー | AF33: 種目
C35: フリガナ | M35: FALSE | N35: 自由形 | P35: FALSE | Q35: 背泳ぎ | S35: FALSE | T35: 自由形 | V35: FALSE | W35: 背泳ぎ | Y35: リレーのみ参加する方はここに☑ | AF35: 合計
B36: 氏名 | M36: FALSE | N36: ﾊﾞﾀﾌﾗｲ | P36: FALSE | Q36: 平泳ぎ | S36: FALSE | T36: ﾊﾞﾀﾌﾗｲ | V36: FALSE | W36: 平泳ぎ | Y36: FALSE | Z36: フリーリレー | AF36: 種目数
M37: FALSE | N37: 個人ﾒﾄﾞﾚｰ | R37: m | S37: FALSE | T37: 個人ﾒﾄﾞﾚｰ | X37: m | Y37: FALSE | Z37: 混合フリーリレー | AF37: =COUNTIF(M35:AD38,TRUE) -> 0
B38: 西暦/月/日 | L38: 歳 | N38: 分 | Q38: 秒 | T38: 分 | W38: 秒 | Y38: FALSE | Z38: メドレーリレー | AF38: 種目
C40: フリガナ | M40: FALSE | N40: 自由形 | P40: FALSE | Q40: 背泳ぎ | S40: FALSE | T40: 自由形 | V40: FALSE | W40: 背泳ぎ | Y40: リレーのみ参加する方はここに☑ | AF40: 合計
B41: 氏名 | M41: FALSE | N41: ﾊﾞﾀﾌﾗｲ | P41: FALSE | Q41: 平泳ぎ | S41: FALSE | T41: ﾊﾞﾀﾌﾗｲ | V41: FALSE | W41: 平泳ぎ | Y41: FALSE | Z41: フリーリレー | AF41: 種目数
M42: FALSE | N42: 個人ﾒﾄﾞﾚｰ | R42: m | S42: FALSE | T42: 個人ﾒﾄﾞﾚｰ | X42: m | Y42: FALSE | Z42: 混合フリーリレー | AF42: =COUNTIF(M40:AD43,TRUE) -> 0
B43: 西暦/月/日 | L43: 歳 | N43: 分 | Q43: 秒 | T43: 分 | W43: 秒 | Y43: FALSE | Z43: メドレーリレー | AF43: 種目
C45: フリガナ | M45: FALSE | N45: 自由形 | P45: FALSE | Q45: 背泳ぎ | S45: FALSE | T45: 自由形 | V45: FALSE | W45: 背泳ぎ | Y45: リレーのみ参加する方はここに☑ | AF45: 合計
B46: 氏名 | M46: FALSE | N46: ﾊﾞﾀﾌﾗｲ | P46: FALSE | Q46: 平泳ぎ | S46: FALSE | T46: ﾊﾞﾀﾌﾗｲ | V46: FALSE | W46: 平泳ぎ | Y46: FALSE | Z46: フリーリレー | AF46: 種目数
M47: FALSE | N47: 個人ﾒﾄﾞﾚｰ | R47: m | S47: FALSE | T47: 個人ﾒﾄﾞﾚｰ | X47: m | Y47: FALSE | Z47: 混合フリーリレー | AF47: =COUNTIF(M45:AD48,TRUE) -> 0
B48: 西暦/月/日 | L48: 歳 | N48: 分 | Q48: 秒 | T48: 分 | W48: 秒 | Y48: FALSE | Z48: メドレーリレー | AF48: 種目
